BEGIN:VCALENDAR
VERSION:2.0
PRODID:-//jEvents 2.0 for Joomla//EN
CALSCALE:GREGORIAN
METHOD:PUBLISH
BEGIN:VTIMEZONE
TZID:America/Bogota
BEGIN:STANDARD
DTSTART:20210307T080000
RDATE:20380118T221407
TZOFFSETFROM:-0500
TZOFFSETTO:-0500
TZNAME:America/Bogota -05
END:STANDARD
END:VTIMEZONE
BEGIN:VEVENT
UID:6cd380b7296c16142cfcb1dd6585da30
CATEGORIES:Reiki
CREATED:20210929T185613
SUMMARY:Reiki Animal &  Nivel 2 Okuden - Sanación con símbolos - otras personas, animales y plantas.
LOCATION:Cra. 20B #75A - 24 Bogotá D.C. - Colombia
DESCRIPTION;ENCODING=QUOTED-PRINTABLE:Avanza en Reiki Animal, Plantas y Personas\n¡Perfecciona la técnica!\n\n\nE
 l&nbsp;Reiki para animales en especia len mascotas,&nbsp;es un sistema de s
 anación no invasiva para ellos que las ayuda a liberarse del estrés, esta t
 erapia alternativa fue propuesta en 1922 y con el tiempo se ha ido adaptand
 o a las necesidades actuales, y ahora los animales también pueden obtener s
 us beneficios.\n\n\nEl Reiki puede&nbsp;minimizar y aliviar malestares, enf
 ermedades y estados de ánimos alterados, ya que su objetivo es trabajar la 
 parte energética de los seres vivos, como todos los animales y mascotas rec
 iben muy bien esta energía.\n¡La terapia Reiki en animales, también nos san
 a!\n\n\n¡La Energía de Sanación de Animales es profundamente gratificante t
 anto para los practicantes como para los animales!\n\n\nComo sanador de ene
 rgía animal, descubrirás que recibes aún más sanación de la que das a las m
 ascotas.&nbsp;\n\n\n\n\n\nEl Reiki puede curar, mejorar, aliviar dolencias,
  enfermedades y estados de ánimos alterados (estrés), como dolores, resfria
 dos y molestias intestinales, ya que su objetivo es trabajar la parte energ
 ética de los animales. Se ha identificado que la mayoría de problemas o enf
 ermedades que la mascota manifiesta son en realidad cargas emocionales de l
 os propietarios, por eso también se recomienda tratar tanto a los animales 
 como a sus dueños.\n\n - Para Vegetales:&nbsp;en los árboles grandes, podem
 os colocar nuestras manos y dar&nbsp;reiki&nbsp;sobre el tronco o la tierra
  que cubre las raíces menos profundas. Para las&nbsp;plantas&nbsp;en maceta
 s, podemos dar&nbsp;reiki&nbsp;colocando las manos envolviendo las hojas y 
 el tallo o cogiendo la maceta entre las manos.\n - Para animales que están 
 sanos, el Reiki ayuda a mantener la salud, promover la relajación, y propor
 ciona momento de paz y satisfacción.\n - Para animales enfermos, el Reiki e
 s maravilloso como método de sanación, así como un complemento perfecto par
 a otros tratamientos. Puede combinarse con cualquier procedimiento veterina
 rio, llegando a reducir incluso los efectos secundarios de los medicamentos
  u otros tratamientos médicos.\n\n3 NIVELES DEL REIKI PARA TRATAMIENTO A PE
 RSONAS Y ANIMALES\n\n\nEste curso de terapia reiki esta compuesto de 3 nive
 les, en las cuales aprenderás a realizar tratamiento a si mismo, tratamient
 o a los demás y terapia a las mascotas:\n\n - Nivel 1 Shoden - Imposición d
 e manos - autotratamiento.\n - Nivel 2 Okuden - Sanación con símbolos - otr
 as personas, animales y plantas.\n - Nivel 2A Reiki Animales - Prácticas y 
 perfeccionamiento de la técnica.\n\nOBJETIVO&nbsp;Reiki Animal &amp; Nivel&
 nbsp;2 Sanación con símbolos - otras personas, animales y plantas\n\n\nTe c
 onvierte en terapeuta energético Reiki en segundo nivel, podrás hacer sanac
 ión por medio de la técnica con simbolos, en otras personas, animales y pla
 ntas.&nbsp; Te llevara a un proceso más acelerado de curación.\nPrerequisit
 o\n\n - Nivel 1 Shoden - Imposición de manos - autotratamiento. el corazón 
 abierto y mente vacía.\n\nTemario General Nivel 2 Okuden - Sanación con sím
 bolos - otras personas, animales y plantas.\n\n - Revisión histórica de Rei
 ki\n - Qué son los símbolos?\n - Trazos energéticos 4. Profundizar en el ma
 rco filosófico de Reiki\n - Incremento del paso de energía\n - Un poco más 
 sobre Reiki\n - Reiki y el Poder del Amor\n - Reiki y el Cuadro Espiritual\
 n - Reiki y Protección\n - Reiki y su conexión\n - Transferencia de informa
 ción y Reiki\n - Como actúa Reiki\n - Mecanismo Esencial\n - Donde actúa. A
 ctitud al aplicarlo\n - \n - Chokurei: El Símbolo del Poder\n - Seiheiki: T
 ratamiento mental – emocional\n - Honshazeshonen: El símbolo de la distanci
 a\n - La aplicación de los símbolos sobre las personas, animales y plantas\
 n - El tratamiento en caja de Reiki\n - Reiki dirigido a aspectos físicos\n
  - Reiki dirigido a aspectos mentales, emocionales y espirituales\n - Los s
 ímbolos originales de Usui\n - Anclaje. Inicio de cualquier trabajo\n\nEntr
 egamos:\n\n - Certificado de asistencia Nivel 2 Okuden - Sanación con símbo
 los - otras personas, animales y plantas.\n - Material de apuntes (Memorias
 ).\n - Refrigerio.\n\nInversión\n\n\n&nbsp;\n\n\n$1.300.000, los 3 niveles 
 .\n\n\nBancolombia Nequi 3193496649 Terapeuta Cristian&nbsp; Toro --&nbsp;&
 nbsp;Bancolombia Nequi 3196033089 Dra. Consuelo García.&nbsp;\n\n\nFORMULAR
 IO REGISTRO: Clic Aquí para abrir.\n
CONTACT:Terapeuta Holístico Cristian Giovanny Toro Sánchez  Celular 3193496649
X-EXTRAINFO:Academia estetica canina Cesar Salamanca
DTSTAMP:20260421T124314Z
DTSTART;TZID=America/Bogota:20220308T080000
DTEND;TZID=America/Bogota:20220308T170000
SEQUENCE:0
TRANSP:OPAQUE
END:VEVENT
END:VCALENDAR