BEGIN:VCALENDAR
VERSION:2.0
PRODID:-//jEvents 2.0 for Joomla//EN
CALSCALE:GREGORIAN
METHOD:PUBLISH
BEGIN:VTIMEZONE
TZID:America/Bogota
BEGIN:STANDARD
DTSTART:20210214T083000
RDATE:20380118T221407
TZOFFSETFROM:-0500
TZOFFSETTO:-0500
TZNAME:America/Bogota -05
END:STANDARD
END:VTIMEZONE
BEGIN:VEVENT
UID:0575bdcf1a9fc02b65aa910881a62d4a
CATEGORIES:Reiki
CREATED:20210913T171740
SUMMARY:Reiki Animal &  Nivel 1 Shoden imposición de manos
LOCATION:Cra. 20B #75A - 24 Bogotá D.C. - Colombia
DESCRIPTION;ENCODING=QUOTED-PRINTABLE:Fórmate en Reiki\n¡Despierta al Sanador que Vive en Ti!\n\n\nReiki es un si
 stema de sanación, auto-sanación y equilibrio Bioenergético a través de la 
 transmisión de la energía, Reiki evalúa, diagnostica y trata las desarmonía
 s en el campo energético que son causantes de la enfermedad.\n\n\nEl terape
 uta (reikista), utiliza sus manos como puente de frecuencias energéticas, p
 roveyendo la vibración necesaria para que la persona armonice las energías.
 \n\n\nEl terapeuta (reikista) no sana a la persona y/o a la mascota, sino q
 ue es el consultante quien está a cargo de su propia sanación, a través de 
 las energías proveídas durante la sesión de Reiki.\n¿En qué consiste el Rei
 ki?\nEl Reiki es un sistema, un protocolo, una herramienta&nbsp;consistente
  en distintas posturas de manos, utilización de símbolos y mantras para apl
 icar en forma dirigida la Energía Universal, con el objetivo de restaurar e
 l equilibrio energético corporal.\nEl Reiki es considerado una terapia holí
 stica, ya que trabaja integradamente con todos los aspectos del ser humano,
  para alcanzar un bienestar completo, sin descuidar ninguno de los planos d
 el Ser, acorde con la necesidad de cada consultante.\nEl tratamiento de Rei
 ki ayuda gradualmente a restaurar el balance del campo bioenergético, de es
 ta manera aliviando los síntomas físicos, mentales y emocionales causados p
 or condicionamientos perjudiciales, situaciones dificultosas y emociones co
 nflictivas.\n\n\n\n¡La terapia Reiki en animales, también nos sana!\n\n\n¡L
 a Energía de Sanación de Animales es profundamente gratificante tanto para 
 los practicantes como para los animales!\n\n\nComo sanador de energía anima
 l, descubrirás que recibes aún más sanación de la que das a las mascotas.&n
 bsp;\n\n\n\n\n\nEl Reiki puede curar, mejorar, aliviar dolencias, enfermeda
 des y estados de ánimos alterados (estrés), como dolores, resfriados y mole
 stias intestinales, ya que su objetivo es trabajar la parte energética de l
 os animales. Se ha identificado que la mayoría de problemas o enfermedades 
 que la mascota manifiesta son en realidad cargas emocionales de los propiet
 arios, por eso también se recomienda tratar tanto a los animales como a sus
  dueños.\n\n - Para animales que están sanos, el Reiki ayuda a mantener la 
 salud, promover la relajación, y proporciona momento de paz y satisfacción.
 \n - Para animales enfermos, el Reiki es maravilloso como método de sanació
 n, así como un complemento perfecto para otros tratamientos. Puede combinar
 se con cualquier procedimiento veterinario, llegando a reducir incluso los 
 efectos secundarios de los medicamentos u otros tratamientos médicos.\n\n3 
 NIVELES DEL REIKI PARA TRATAMIENTO A PERSONAS Y ANIMALES\n\n\nEste curso de
  terapia reiki esta compuesto de 3 niveles, en las cuales aprenderás a real
 izar tratamiento a si mismo, tratamiento a los demás y terapia a las mascot
 as:\n\n - Nivel 1 Shoden - Imposición de manos - autotratamiento.\n - Nivel
  2 Okuden - Sanación con símbolos - otras personas, animales y plantas.\n -
  Nivel 2A Reiki Animales - Prácticas y perfeccionamiento de la técnica.\n\n
 OBJETIVO&nbsp;Reiki Animal &amp; Nivel 1 Shoden imposición de manos\n\n\nTe
  convierte en terapeuta energético Reiki en primer nivel, podrás hacer sana
 ción por medio de la Imposición de Manos en uno mismo, en otras personas, a
 nimales y plantas.&nbsp; Te atraerá un mayor crecimiento Interior. Te encon
 trarás con un mejor Estilo de Vida.\nRequisitos\n\n - Tener el corazón abie
 rto y mente vacía.\n - Ganas de aprender la técnica Reiki.\n - Ganas de aut
 osanarte.\n - Interés para ayudar a los demás (humanos, animales, plantas, 
 planeta tierra).Se sugiere ropa blanca.Una disposición en lo posible para c
 aminar descalzo en el cesped.No haber consumido licor o alucinogenos 24 hor
 as antes.\n&nbsp;¿Para quién es este curso?&nbsp;\n - Personas que quieran 
 convertirse en terapeutas profesionales.\n - Personas que quieran aprender 
 la técnica para ayudar a las demás.\n - Personas que le interese la sanació
 n complementaria.\n - personas que desean ayudar en la sanación complementa
 ria terapeutica de los animales, mascotas, plantas.\n - Personas que quiera
 n desarrollarse personalmente y crecimiento de conciencia.\n - Personas que
  quieran desarrollarse Espiritualmente, reconectandote con la paz, la felic
 idad y proposito de vida.\n - Personas que quieran ser un aporte para el bi
 enestar común en el planeta tierra y todos los seres que lo habitamos.\n\nT
 emario General Nivel 1 Shoden imposición de manos\n\n - ¿Qué es Reiki?\n - 
 Sobre el carácter “Rei”\n - Sobre el carácter “Ki”\n - El camino del reiki\
 n - La enfermedad\n - La sanación energética\n - Los tratamientos Reiki\n -
  Como actúa Reiki\n - Historia del Reiki\n - Los 5 Principios del Reiki\n -
  El aura – campo energético.\n - \n - Los 7 Chakras básicos en humanos\n - 
 Primer chakra Base\n - Segundo chakra Sexual\n - Tercer chakra: El plexo so
 lar\n - Cuarto chakra del corazón\n - Quinto chakra: la garganta\n - Sexto 
 chakra: Tercer ojo\n - Séptimo chakra: Corona\n - \n - Chakras en los anima
 les especialmente mascotas&nbsp;\n - Primer chakra Base\n - Segundo chakra 
 Sacral\n - Tercer chakra medio abdominal\n - Cuarto chakra del corazón\n - 
 Quinto chakra de la garganta\n - Sexto chakra: Tercer ojo\n - Séptimo chakr
 a: Coronilla\n - Chakra braquial o chakra corazón posterior\n - Chakras bud
  en las almohadillas de las patas y dobles orejas\n - \n - Posición de las 
 manos al canalizar Reiki\n - Las posiciones de las manos durante el tratami
 ento\n - \n - Posiciones de autotratamiento (Frente)\n - Posiciones de auto
 tratamiento (Atrás)\n - \n - Posiciones de tratamiento a otra persona (Fren
 te)\n - Posiciones de tratamiento a otra persona (Atrás)\n - \n - Posicione
 s de tratamiento a un perro\n - Posiciones de tratamiento a un gato\n - Pos
 iciones de tratamiento a caballo\n - Posiciones de tratamiento a un ave\n -
  \n - 21 días de auto tratamiento\n - Ejercicios y practicas\n\nEntregamos:
 \n\n - Certificado de asistencia Nivel 1 Shoden.\n - Material de apuntes (M
 emorias).\n - Refrigerio.\n\nInversión\n\n\n$1.300.000, los 3 niveles .\n\n
 \nBancolombia Nequi 3193496649 Terapeuta Cristian&nbsp; Toro --&nbsp;&nbsp;
 Bancolombia Nequi 3196033089 Dra. Consuelo García.&nbsp;\n\n\nFORMULARIO RE
 GISTRO: Clic Aquí para abrir.\n
CONTACT:Terapeuta Holístico Cristian Giovanny Toro Sánchez  Celular 3193496649
X-EXTRAINFO:Academia estetica canina Cesar Salamanca
DTSTAMP:20260421T140738Z
DTSTART;TZID=America/Bogota:20220215T083000
DTEND;TZID=America/Bogota:20220215T170000
SEQUENCE:0
TRANSP:OPAQUE
END:VEVENT
END:VCALENDAR