BEGIN:VCALENDAR
VERSION:2.0
PRODID:-//jEvents 2.0 for Joomla//EN
CALSCALE:GREGORIAN
METHOD:PUBLISH
BEGIN:VTIMEZONE
TZID:America/Bogota
BEGIN:STANDARD
DTSTART:20200227T080000
RDATE:20380118T221407
TZOFFSETFROM:-0500
TZOFFSETTO:-0500
TZNAME:America/Bogota -05
END:STANDARD
END:VTIMEZONE
BEGIN:VEVENT
UID:9858f2c153ec7195ea9ad36cc799f18f
CATEGORIES:Curso Dones
CREATED:20210127T182847
SUMMARY:CURSO ANATOMÍA HUMANA ESOTÉRICA 
LOCATION:Plataforma Zoom
DESCRIPTION;ENCODING=QUOTED-PRINTABLE:\n\n\n\n\nNIVEL 1 BÁSICO\n\n\nAprende de los chacras básicos del ser humano
 , los nadis mayores y nuestros siete cuerpos.\n\n - • Conoce la estructura 
 energética.\n - • La diferencia entre alma y espíritu.\n - • Los componente
 s sutiles energéticos .\n - • Las equivalencias de los chacras en el cuerpo
  físico.\n - • Tres centros neuronales en nuestro cuerpo\n - • Maneras para
  realizar auto sanación física.\n\nDos días de 4 horas. Sábado y domingo de
  8:30 AM a 12:30 Meridiano\n\n\n&nbsp;\n\n\nValor USD $61\n\n\n$220.000 Pes
 os Colombianos\n
CONTACT:Terapeuta Holístico Cristian Toro
X-EXTRAINFO:Mòvil Colombia +57 3193496649
DTSTAMP:20260422T071932Z
DTSTART;TZID=America/Bogota:20210227T080000
DTEND;TZID=America/Bogota:20210228T123000
SEQUENCE:0
TRANSP:OPAQUE
END:VEVENT
END:VCALENDAR