BEGIN:VCALENDAR
VERSION:2.0
PRODID:-//jEvents 2.0 for Joomla//EN
CALSCALE:GREGORIAN
METHOD:PUBLISH
BEGIN:VTIMEZONE
TZID:America/Bogota
BEGIN:STANDARD
DTSTART:20190405T150000
RDATE:20380118T221407
TZOFFSETFROM:-0500
TZOFFSETTO:-0500
TZNAME:America/Bogota -05
END:STANDARD
END:VTIMEZONE
BEGIN:VEVENT
UID:f5e85a26079cbfab01b4ad24630b251c
CATEGORIES:DEFAULT
CREATED:20200403T114501
SUMMARY:SANANDO LOS CHACRAS DE LA TIERRA
LOCATION:Facebook Live
DESCRIPTION;ENCODING=QUOTED-PRINTABLE:\n\n\n\n - Donde están los chacras de la tierra y como funcionan.\n - Porqu
 e estamos en cuarentena desde lo energético.\n - Las profecías y los retos 
 2020 en adelante.\n - Ayudemos a sanar el planeta con meditación.\n - Curan
 do a los enfermos con él mantra “om mani padme hum”\n\nhttps://www.facebook
 .com/sentidosparaelalma/
CONTACT:Terapeuta Cristian Giovanny Toro Sánchez
X-EXTRAINFO:https://www.facebook.com/sentidosparaelalma/
DTSTAMP:20260422T224848Z
DTSTART;TZID=America/Bogota:20200405T150000
DTEND;TZID=America/Bogota:20200405T170000
SEQUENCE:0
TRANSP:OPAQUE
END:VEVENT
END:VCALENDAR