BEGIN:VCALENDAR
VERSION:2.0
PRODID:-//jEvents 2.0 for Joomla//EN
CALSCALE:GREGORIAN
METHOD:PUBLISH
BEGIN:VTIMEZONE
TZID:America/Bogota
BEGIN:STANDARD
DTSTART:20190307T180000
RDATE:20380118T221407
TZOFFSETFROM:-0500
TZOFFSETTO:-0500
TZNAME:America/Bogota -05
END:STANDARD
END:VTIMEZONE
BEGIN:VEVENT
UID:e3648f3ce8994a437a2f1f455c38fc76
CATEGORIES:Curso Dones
CREATED:20200211T214705
SUMMARY:Ritual del Fuego Sagrado
LOCATION:Pereira Risarlalda Finca la Secreta
DESCRIPTION;ENCODING=QUOTED-PRINTABLE:\n\n\n\n\nRitual del fuego sagrado \nConéctate con el elemental del fuego e
 n la gran fogata ceremonial: Salamandra, Gennies, Vulcano, Farisilles, Shal
 lones, Gibor, Agni.\nAprende fosfenismo, convierte la energía lumínica en e
 nergía mental proyectante.\nPara los Iluminologos ritual de iniciación de a
 ctivación de lo vitris energéticos de las manos y los meridianos del cuerpo
 , elementos fuego.\nPagamento a elemento fuego chamanico: Entrega al ave fé
 nix que renace de las cenizas, todas tus dolencias físicas, emocionales, ps
 íquicas y espirituales, trasmutando en sanación, abundancia y energización 
 progresiva.\n\n\n&nbsp;\n\n\nValor $220.000\n
CONTACT:319-3496649
X-EXTRAINFO:Iluminologo Cristian  Toro
DTSTAMP:20260422T234952Z
DTSTART;TZID=America/Bogota:20200307T180000
DTEND;TZID=America/Bogota:20200307T220000
SEQUENCE:0
TRANSP:OPAQUE
END:VEVENT
END:VCALENDAR