BEGIN:VCALENDAR
VERSION:2.0
PRODID:-//jEvents 2.0 for Joomla//EN
CALSCALE:GREGORIAN
METHOD:PUBLISH
BEGIN:VTIMEZONE
TZID:America/Bogota
BEGIN:STANDARD
DTSTART:20181205T160000
RDATE:20380118T221407
TZOFFSETFROM:-0500
TZOFFSETTO:-0500
TZNAME:America/Bogota -05
END:STANDARD
END:VTIMEZONE
BEGIN:VEVENT
UID:df95e26ca4b3108bc0451e4bb77fcac2
CATEGORIES:Curso Dones
CREATED:20191115T135028
SUMMARY:Curso Ligero de Iluminologia
LOCATION:Manimez - Manizales Caldas
DESCRIPTION;ENCODING=QUOTED-PRINTABLE:\n\n“Es mejor prender una vela que maldecir las tinieblas” dice el refrán y
 , realmente, el acto de encender una vela marca en sí mismo un antes y un d
 espués en el ambiente.\n\n\n\nAprender de Iluminologia es mágico, interpret
 ar como se consume y su comportamiento. Según la física cuántica el número 
 mágico es el tres (3). Las velas tienen 3 pastes la luz (Fuego), Alma (mech
 a, pabilo), materia (cera). \nAprenderemos los rituales secretos de como in
 tencional las velas del 7 de diciembre. como arrancar el proceso secreto de
  la corona de adviento navideño. Principios de angelología, meditación en l
 a luz con fosfenismo (transformar la energía luminosa en energía mental) y 
 proyectar lo que merecemos en el cosmos enviando luz, para materializar nue
 stros deseos.\n\n\nTEMARIO&nbsp;\n\n - \n - Reglas generales para el uso de
  las velas.\n - Razones para encender una vela.\n - Los colores de las vela
 s.\n - Velas angelicales.\n - Ritual Intenciones las velas.\n - Ritual Ungi
 r las verlas con aceite energético.\n - Ritual Velas para el día de velitas
 .\n - Kit personalizado por asistente para trabajar.DURACIÓN 3 Horas – Kit 
 de Trabajo.\n\nSugerencias preparación para el taller\n\n - No haber consum
 ido licor o sustancias alucinógenas el día anterior y durante el taller.\n 
 - No haber comido carnes rojas (Cerdo y Res) el día anterior y durante el t
 aller.\n - No haber trasnochado.\n - Estar Hidratados.\n - Ropa cómoda, pap
 el y lápiz.\n\nPrecio $40.000\n
CONTACT:Cristian Giovanny Toro Sánchez 319-3496649
X-EXTRAINFO:https://api.whatsapp.com/send?phone=573193496649&text=curso%20Iluminologia%
 20Manizales
DTSTAMP:20260421T171130Z
DTSTART;TZID=America/Bogota:20191206T160000
DTEND;TZID=America/Bogota:20191206T190000
SEQUENCE:0
TRANSP:OPAQUE
END:VEVENT
END:VCALENDAR