BEGIN:VCALENDAR
VERSION:2.0
PRODID:-//jEvents 2.0 for Joomla//EN
CALSCALE:GREGORIAN
METHOD:PUBLISH
BEGIN:VTIMEZONE
TZID:America/Bogota
BEGIN:STANDARD
DTSTART:20181214T090000
RDATE:20380118T221407
TZOFFSETFROM:-0500
TZOFFSETTO:-0500
TZNAME:America/Bogota -05
END:STANDARD
END:VTIMEZONE
BEGIN:VEVENT
UID:b0b5a12739c6aca8475eaf3216fc57f3
CATEGORIES:Curso Dones
CREATED:20191112T185615
SUMMARY:Taller Practico Feng Shui
LOCATION:Pereira Risaralda - Zi One Luxury Hotel
DESCRIPTION;ENCODING=QUOTED-PRINTABLE:\n\nEs un antiguo sistema filosófico chino de origen&nbsp;taoísta&nbsp;basa
 do en la ocupación consciente y&nbsp;armónica del espacio, con el fin de lo
 grar de éste una influencia positiva sobre las personas que lo ocupan, casa
 , local, oficina, carro.\n\n\n&nbsp;\n\n\n\n\n\nTemario:\n\n - Reseña Histó
 rica\n - El Feng Shui. Qué Es Y Para Qué Sirve.\n - Las Diferentes Escuelas
  De Feng Shui\n - Los Fundamentos Del Feng Shui: El Chi\n - Los Fundamentos
  Del Feng Shui: El Yin Y El Yang.\n - Los Fundamentos Del Feng Shui:&nbsp; 
 Los Elementos\n - Los Ciclos De Los Elementos\n - Plantilla Feng Shui\n - L
 os Grados Y Las Orientaciones\n - Usando La Plantilla Sobre El Plano\n - Nu
 merología Con Feng Shui\n - Tu Energía Personal\n - Los Colores Del Feng Sh
 ui\n - Feng Shui En La Casa\n - Feng Shui En La Oficina\n - Feng Shui Local
 es Comerciales\n - Feng Shui En El Carro\n - Método Konmari Del Orden\n - A
 rmonizar Tu Espacio Con Lo Que Tienes A La Mano\n\n&nbsp;\n\n\nSugerencias 
 preparación para el taller\n\n - No haber consumido licor o sustancias aluc
 inógenas el día anterior y durante el taller.\n - No haber comido carnes ro
 jas (Cerdo y Res) el día anterior y durante el taller.\n - No haber trasnoc
 hado.\n - Estar Hidratados.\n - Ropa cómoda, papel y lápiz.\n\nPrecio $150.
 000\n
CONTACT:Sandra Sarria Restrepo -  3163684824
X-EXTRAINFO:https://api.whatsapp.com/send?phone=573193496649&text=curso%20Feng%20Shui
DTSTAMP:20260423T035657Z
DTSTART;TZID=America/Bogota:20191215T090000
DTEND;TZID=America/Bogota:20191215T170000
SEQUENCE:0
TRANSP:OPAQUE
END:VEVENT
END:VCALENDAR