BEGIN:VCALENDAR
VERSION:2.0
PRODID:-//jEvents 2.0 for Joomla//EN
CALSCALE:GREGORIAN
METHOD:PUBLISH
BEGIN:VTIMEZONE
TZID:America/Bogota
BEGIN:STANDARD
DTSTART:20161117T090000
RDATE:20380118T221407
TZOFFSETFROM:-0500
TZOFFSETTO:-0500
TZNAME:America/Bogota -05
END:STANDARD
END:VTIMEZONE
BEGIN:VEVENT
UID:e671b1d438d7ec323f47c992f42513f8
CATEGORIES:Curso Dones
CREATED:20171017T211035
SUMMARY:CURSO INTRODUCTORIO DE APERTURA DE DONES Y TALENTOS ENERGÉTICOS.
LOCATION:Bogotá Colombia D.C. Barrio Suba.
DESCRIPTION;ENCODING=QUOTED-PRINTABLE:El&nbsp;genoma humano&nbsp;del&nbsp;Homo sapiens contienen toda la informac
 i&oacute;n necesaria para poder formar las c&eacute;lulas traspasando carac
 ter&iacute;sticas hereditarias a la descendencia, por as&iacute; decirlo "i
 nstrucciones" determinadas, las que se encuentran codificadas mediante una 
 secuencia de ADN (&Aacute;cido desoxirribonucleico), una mol&eacute;cula de
  elevada masa cuya funci&oacute;n es almacenar la informaci&oacute;n de ras
 gos f&iacute;sicos, la manera en la que pensamos, sentimos, reaccionamos, f
 ormando el curso de nuestra salud, abundancia y relaciones. No solo heredam
 os rasgos f&iacute;sicos, gustos por las comidas y tendencias a enfermedade
 s, sino que tambi&eacute;n heredamos una historia emocional, que a su vez i
 r&aacute; construyendo nuestra historia de vida.\nDIFERENCIACI&Oacute;N EN 
 LAS C&Eacute;LULAS SEXUALES\nEntre las particularidades a se&ntilde;alar en
  torno a los cromosomas, hay que decir que son 46 de ellos los que se puede
 n ver para el caso espec&iacute;fico del ser humano, los cuales forman 23 p
 ares, de los cuales el &uacute;ltimo par est&aacute; formado por los cromos
 omas XY en el hombre y XX en la mujer.\nADN ENERG&Eacute;TICO INDIVIDUAL.\n
 El ADN no codificante o ADN Energ&eacute;tico individual, juega un papel im
 portante en el control de la actividad de nuestros genes. Codifica interrup
 tores gen&eacute;ticos que regulan cu&aacute;ndo y d&oacute;nde se enciende
 n y se apagan los genes en nuestro organismo, y permite manifestar nuestros
  Dones y Talentos personales. Por ejemplo, si en nuestro ADN individual hay
  determinadas grabaciones de dones o talentos, pero, en nuestro ADN ancestr
 al existen grabaciones de que por libre albedrio o choque energ&eacute;tico
  los apagamos; es muy posible que tengamos muchos problemas en desarrollar 
 estos dones o talentos con &eacute;xito en esta vida; pues siempre tendremo
 s la tendencia a ser pesimistas o dudar de ellos.\nEl sanar y liberar las m
 emorias ancestrales negativas, nos permitir&aacute; encontrarnos con nuestr
 o interior para activar los genes de nuestra codificaci&oacute;n positiva o
  esencial para proyectarnos con todo nuestro potencial y se logra de manera
  consiente activar estos canales energ&eacute;ticos.\n\n\n\nPERFIL\nEl curs
 o introductorio se enfoca a &nbsp;personas que tienen una creencia b&aacute
 ;sica en la existencia de los dones y talentos y que han o quieren estar en
  contacto con sus dones.&nbsp; Aqu&iacute; se asume un compromiso individua
 l frente al don que tiene marcado por ADN energ&eacute;tico individual.\nEl
  curso introductorio es para los que deseen canalizar su don para crecimien
 to interior y desarrollar su potencial o para los que lo tiene identificado
  y desean tener herramientas para ejercitarlos, controlarlos y manipularlos
  a voluntad a fin de tener mayor eficiencia, eficacia del control de los mi
 smos.\nCOMPETENCIAS.\nConocer la estructura, formato y clasificaci&oacute;n
  b&aacute;sica de los dones y talentos.&nbsp;\nAdquirir herramientas para c
 onocer, activar o canalizar nuestros dones.\nAsumir la responsabilidad de n
 uestros dones en consonancia con nuestras creencias, rituales y/o pr&aacute
 ;cticas religiosas.\nEliminar los prejuicios y pre concepciones adquiridos 
 culturalmente en la sociedad.\nCONTENIDOS\nLa energ&iacute;a es solo una, s
 olo la intenci&oacute;n mental la conceptualiza en buena o mala.\nClasifica
 ci&oacute;n de &nbsp;dones f&iacute;sicos, ps&iacute;quicos, espirituales y
  sociales.\nEquilibrar las energ&iacute;as internas para activar mi don.\nP
 roceso de identificaci&oacute;n personal de nuestros dones.\nQué t&eacute;
 cnicas o ejercicios debes hacer con frecuencia para mantener tu vibraci&oac
 ute;n energ&eacute;tica.\n\n\n\n\n\nCOSTO\n\n\nDoscientos mil pesos ($200.0
 00) Colombianos.\n\n\nCUPOS LIMITADOS\n
CONTACT:Terapeuta Cristian Giovanny Toro Sánchez
X-EXTRAINFO:Esta dirección de correo electrónico está protegida contra spambots. Necesi
 ta activar JavaScript para visualizarla.
				document.getElementById('cloak
 e72dc4e27b8770042ca43c0706758f68').innerHTML = '';
				var prefix = '&#109;
 a' + 'i&#108;' + '&#116;o';
				var path = 'hr' + 'ef' + '=';
				var addye
 72dc4e27b8770042ca43c0706758f68 = '&#105;nf&#111;rm&#97;c&#105;&#111;n' + '
 &#64;';
				addye72dc4e27b8770042ca43c0706758f68 = addye72dc4e27b8770042ca4
 3c0706758f68 + 's&#101;nt&#105;d&#111;sp&#97;r&#97;&#101;l&#97;lm&#97;' + '
 &#46;' + 'c&#111;m';
				var addy_texte72dc4e27b8770042ca43c0706758f68 = '&
 #105;nf&#111;rm&#97;c&#105;&#111;n' + '&#64;' + 's&#101;nt&#105;d&#111;sp&#
 97;r&#97;&#101;l&#97;lm&#97;' + '&#46;' + 'c&#111;m';document.getElementByI
 d('cloake72dc4e27b8770042ca43c0706758f68').innerHTML += ''+addy_texte72dc4e
 27b8770042ca43c0706758f68+'';
		\nWathsapp 319- 3496649 Bogotá
DTSTAMP:20260424T175204Z
DTSTART;TZID=America/Bogota:20171118T090000
DTEND;TZID=America/Bogota:20171118T190000
SEQUENCE:0
TRANSP:OPAQUE
END:VEVENT
END:VCALENDAR