BEGIN:VCALENDAR
VERSION:2.0
PRODID:-//jEvents 2.0 for Joomla//EN
CALSCALE:GREGORIAN
METHOD:PUBLISH
BEGIN:VTIMEZONE
TZID:America/Bogota
BEGIN:STANDARD
DTSTART:20160827T083000
RDATE:20380118T221407
TZOFFSETFROM:-0500
TZOFFSETTO:-0500
TZNAME:America/Bogota -05
END:STANDARD
END:VTIMEZONE
BEGIN:VEVENT
UID:4cd9eaf36feb72ff189e24b61edb7add
CATEGORIES:DEFAULT
CREATED:20170827T190541
SUMMARY:Canalización con Muertos en Muy buenos Días RCN
LOCATION:Canal RCN TV
DESCRIPTION;ENCODING=QUOTED-PRINTABLE:\n\nEstaremos a partir de las 8 y 30 por canal RCN Muy buenos d&iacute;as, 
 realizando canalizaci&oacute;n con muertos.&nbsp;\n\n\n\n
CONTACT:Cristian Toro
DTSTAMP:20260424T224013Z
DTSTART;TZID=America/Bogota:20170828T083000
DTEND;TZID=America/Bogota:20170828T103000
SEQUENCE:0
TRANSP:OPAQUE
END:VEVENT
END:VCALENDAR