BEGIN:VCALENDAR
VERSION:2.0
PRODID:-//jEvents 2.0 for Joomla//EN
CALSCALE:GREGORIAN
METHOD:PUBLISH
BEGIN:VTIMEZONE
TZID:America/Bogota
BEGIN:STANDARD
DTSTART:20160808T200000
RDATE:20380118T221407
TZOFFSETFROM:-0500
TZOFFSETTO:-0500
TZNAME:America/Bogota -05
END:STANDARD
END:VTIMEZONE
BEGIN:VEVENT
UID:f5cbed0e3b024e01c3054c84e06c1978
CATEGORIES:DEFAULT
CREATED:20170808T185633
SUMMARY:Olimpica - Feng Shui
LOCATION:Radio Olimpica Estereo
DESCRIPTION;ENCODING=QUOTED-PRINTABLE:\n\n\n\n\nHoy Estaremos en Radio Olimpica EStereo Colombia con dial 105.4 F
 M.\n\n\nHablaremos del Feng Shui y de como armonizar la casa, oficina, el c
 arro.\n\n\nCon los vehiculos realizaremos un proceso de videncia para dar i
 ndicaciones de como armonizarlo.\n\n\n&nbsp;\n\n\n&nbsp;\n
CONTACT:Esta dirección de correo electrónico está protegida contra spambots. Necesita activar JavaScript para visualizarla.
				document.getElementById('cloak9d1c95bfca0d4d9e0724b3d3fe4cdcd1').innerHTML = '';
				var prefix = '&#109;a' + 'i&#108;' + '&#116;o';
				var path = 'hr' + 'ef' + '=';
				var addy9d1c95bfca0d4d9e0724b3d3fe4cdcd1 = '&#105;nf&#111;rm&#97;c&#105;&#111;n' + '&#64;';
				addy9d1c95bfca0d4d9e0724b3d3fe4cdcd1 = addy9d1c95bfca0d4d9e0724b3d3fe4cdcd1 + 's&#101;nt&#105;d&#111;sp&#97;r&#97;&#101;l&#97;lm&#97;' + '&#46;' + 'c&#111;m';
				var addy_text9d1c95bfca0d4d9e0724b3d3fe4cdcd1 = '&#105;nf&#111;rm&#97;c&#105;&#111;n' + '&#64;' + 's&#101;nt&#105;d&#111;sp&#97;r&#97;&#101;l&#97;lm&#97;' + '&#46;' + 'c&#111;m';document.getElementById('cloak9d1c95bfca0d4d9e0724b3d3fe4cdcd1').innerHTML += ''+addy_text9d1c95bfca0d4d9e0724b3d3fe4cdcd1+'';
		
DTSTAMP:20260424T224034Z
DTSTART;TZID=America/Bogota:20170809T200000
DTEND;TZID=America/Bogota:20170809T235600
SEQUENCE:0
TRANSP:OPAQUE
END:VEVENT
END:VCALENDAR