BEGIN:VCALENDAR
VERSION:2.0
PRODID:-//jEvents 2.0 for Joomla//EN
CALSCALE:GREGORIAN
METHOD:PUBLISH
BEGIN:VTIMEZONE
TZID:America/Bogota
BEGIN:STANDARD
DTSTART:20160807T200000
RDATE:20380118T221407
TZOFFSETFROM:-0500
TZOFFSETTO:-0500
TZNAME:America/Bogota -05
END:STANDARD
END:VTIMEZONE
BEGIN:VEVENT
UID:d8fc1f8d56e71b69bbcf6baafad5e2f3
CATEGORIES:DEFAULT
CREATED:20170808T185432
SUMMARY:Radio Uno - Feng Shui
LOCATION:Radio Radio Uno
DESCRIPTION;ENCODING=QUOTED-PRINTABLE:\n\n\n\n\nHoy Estaremos en Radio Uno Colombia con dial 88.9 FM.\n\n\nHablar
 emos del Feng Shui y de como armonizar la casa, oficina, el carro.\n\n\nCon
  los vehiculos realizaremos un proceso de videncia para dar indicaciones de
  como armonizarlo.\n\n\n&nbsp;\n\n\n&nbsp;\n
CONTACT:Esta dirección de correo electrónico está protegida contra spambots. Necesita activar JavaScript para visualizarla.
				document.getElementById('cloakaa4637e6161ae514c343b7898a7567b4').innerHTML = '';
				var prefix = '&#109;a' + 'i&#108;' + '&#116;o';
				var path = 'hr' + 'ef' + '=';
				var addyaa4637e6161ae514c343b7898a7567b4 = '&#105;nf&#111;rm&#97;c&#105;&#111;n' + '&#64;';
				addyaa4637e6161ae514c343b7898a7567b4 = addyaa4637e6161ae514c343b7898a7567b4 + 's&#101;nt&#105;d&#111;sp&#97;r&#97;&#101;l&#97;lm&#97;' + '&#46;' + 'c&#111;m';
				var addy_textaa4637e6161ae514c343b7898a7567b4 = '&#105;nf&#111;rm&#97;c&#105;&#111;n' + '&#64;' + 's&#101;nt&#105;d&#111;sp&#97;r&#97;&#101;l&#97;lm&#97;' + '&#46;' + 'c&#111;m';document.getElementById('cloakaa4637e6161ae514c343b7898a7567b4').innerHTML += ''+addy_textaa4637e6161ae514c343b7898a7567b4+'';
		
DTSTAMP:20260424T224013Z
DTSTART;TZID=America/Bogota:20170808T200000
DTEND;TZID=America/Bogota:20170809T020000
SEQUENCE:0
TRANSP:OPAQUE
END:VEVENT
END:VCALENDAR