BEGIN:VCALENDAR
VERSION:2.0
PRODID:-//jEvents 2.0 for Joomla//EN
CALSCALE:GREGORIAN
METHOD:PUBLISH
BEGIN:VTIMEZONE
TZID:America/Bogota
BEGIN:STANDARD
DTSTART:20210308T083000
RDATE:20380118T221407
TZOFFSETFROM:-0500
TZOFFSETTO:-0500
TZNAME:America/Bogota -05
END:STANDARD
END:VTIMEZONE
BEGIN:VEVENT
UID:1ae72ebfc6c6db7cf9923baec794e683
CATEGORIES:Reiki
CREATED:20210929T194024
SUMMARY:Reiki Animal &  Nivel 2A Reiki Animales - Prácticas y perfeccionamiento de la técnica
LOCATION:Cra. 20B #75A - 24 Bogotá D.C. - Colombia
DESCRIPTION;ENCODING=QUOTED-PRINTABLE:Terapeuta en Reiki Animal\n¡Valor agregado en al atención de mascotas!\n\n\
 nEn la actualidad cada vez es más popular el término "veterinario holístico
 ", que hace referencia a una persona que ha cursado los estudios de medicin
 a veterinaria pero que también los ha complementado con diversas formacione
 s en terapias naturales y alternativas con la finalidad de poderlas aplicar
  en el animal, para restaurar su estado de salud de una forma natural y res
 petuosa con su organismo.\n\n\nLas terapias naturales ya no se emplean únic
 amente en seres humanos sino que son muchos los propietarios que consideran
  que este debe ser el tratamiento de primera línea ante múltiples trastorno
 s que pueden afectar a su mascota.\n\n\n.&nbsp;\n\n\n\n\n\n3 NIVELES DEL RE
 IKI PARA TRATAMIENTO A PERSONAS Y ANIMALES\n\n\nEste curso de terapia reiki
  esta compuesto de 3 niveles, en las cuales aprenderás a realizar tratamien
 to a si mismo, tratamiento a los demás y terapia a las mascotas:\n\n - Nive
 l 1 Shoden - Imposición de manos - autotratamiento.\n - Nivel 2 Okuden - Sa
 nación con símbolos - otras personas, animales y plantas.\n - Nivel 2A Reik
 i Animales - Prácticas y perfeccionamiento de la técnica.\n\nOBJETIVO&nbsp;
 Reiki Animal &amp; Nivel 2A Reiki Animales - Prácticas y perfeccionamiento 
 de la técnica\n\n\nTe convierte en terapeuta energético Reiki animal, podrá
 s hacer sanación por medio de la técnica con simbolos, en otras personas, a
 nimales y plantas.&nbsp; Te llevara a un proceso más acelerado de curación.
 \nPrerequisito\n\n - Nivel 1 Shoden - Imposición de manos - autotratamiento
 .Nivel 2 Okuden - Sanación con símbolos - otras personas, animales y planta
 s.\n\nTemario General Nivel 2A Reiki Animales - Prácticas y perfeccionamien
 to de la técnicas.\n\n - REPASO Chakras en los animales especialmente masco
 tas\n - Primer chakra Base&nbsp;\n - Segundo chakra Sacral\n - Tercer chakr
 a medio abdominal\n - Cuarto chakra del corazón\n - Quinto chakra de la gar
 ganta\n - Sexto chakra: Tercer ojo\n - Séptimo chakra: Coronilla\n - Chakra
  braquial o chakra corazón posterior\n - chakras bud en las almohadillas de
  las patas y dobles orejas\n - &nbsp;&nbsp;\n - Posiciones de tratamiento a
  un perro\n Posiciones de tratamiento a un gato\n - Posiciones de tratamien
 to a caballo\n Posiciones de tratamiento a un ave\n - &nbsp;\n - &nbsp;Uso 
 y beneficio del reiki en los animales\n - Que pasa cuando aplicamos reiki a
  los animales\n - El enfoque : está cómodo?, se siente respetado?, el contr
 ol lo tiene el animal\n - Visualmente o en cercanía.\n - Efecto domino cura
 ción núcleo familiar\n - La construcción de un ambiente adecuado\n - Espaci
 o tratamiento\n - Tu estado/ intención de conectar /mantenerte positivo.\n 
 - Los signos de aceptación\n - Intuición\n - La imposición de manos\n - Cóm
 o saber si el animal no quiere tratamiento. Si no le dice que otro día.\n -
  Buen morir en animales\n - Crear un espacio de amor, silencioso.\n\nEntreg
 amos:\n\n - Certificado de asistencia Nivel 2A&nbsp;Reiki Animales - Prácti
 cas y perfeccionamiento de la técnica.\n - Material de apuntes (Memorias).\
 n - Refrigerio.\n\nInversión\n\n\n&nbsp;\n\n\n$1.300.000, los 3 niveles .\n
 \n\nBancolombia Nequi 3193496649 Terapeuta Cristian&nbsp; Toro --&nbsp;&nbs
 p;Bancolombia Nequi 3196033089 Dra. Consuelo García.&nbsp;\n\n\nFORMULARIO 
 REGISTRO: Clic Aquí para abrir.\n\n\n\n
CONTACT:Terapeuta Holístico Cristian Giovanny Toro Sánchez  Celular 3193496649
X-EXTRAINFO:Academia estetica canina Cesar Salamanca
DTSTAMP:20260421T114657Z
DTSTART;TZID=America/Bogota:20220309T083000
DTEND;TZID=America/Bogota:20220309T170000
SEQUENCE:0
TRANSP:OPAQUE
END:VEVENT
END:VCALENDAR