BEGIN:VCALENDAR
VERSION:2.0
PRODID:-//jEvents 2.0 for Joomla//EN
CALSCALE:GREGORIAN
METHOD:PUBLISH
BEGIN:VTIMEZONE
TZID:America/Bogota
BEGIN:STANDARD
DTSTART:20191024T090000
RDATE:20380118T221407
TZOFFSETFROM:-0500
TZOFFSETTO:-0500
TZNAME:America/Bogota -05
END:STANDARD
END:VTIMEZONE
BEGIN:VEVENT
UID:63db19af71b7d679c7ba494fbddfa594
CATEGORIES:DEFAULT
CREATED:20201017T133626
SUMMARY:Curso Radiestesia y Manejo del Péndulo
LOCATION:Pereira Risaralda
DESCRIPTION;ENCODING=QUOTED-PRINTABLE:\n\nCurso Radiestesia y Manejo del Péndulo.\n\n\n\n\n\n&nbsp;\n
CONTACT:Terapeuta Holístico Cristian Toro
X-EXTRAINFO:3193496649
DTSTAMP:20260422T151118Z
DTSTART;TZID=America/Bogota:20201024T090000
DTEND;TZID=America/Bogota:20201024T160000
SEQUENCE:0
TRANSP:OPAQUE
END:VEVENT
END:VCALENDAR