BEGIN:VCALENDAR
VERSION:2.0
PRODID:-//jEvents 2.0 for Joomla//EN
CALSCALE:GREGORIAN
METHOD:PUBLISH
BEGIN:VTIMEZONE
TZID:America/Bogota
BEGIN:STANDARD
DTSTART:20190329T090000
RDATE:20380118T221407
TZOFFSETFROM:-0500
TZOFFSETTO:-0500
TZNAME:America/Bogota -05
END:STANDARD
END:VTIMEZONE
BEGIN:VEVENT
UID:2465dd5d10dc8603841badcd2481c590
CATEGORIES:Curso Dones
CREATED:20200302T141153
SUMMARY:Curso Iluminologia Nivel 1
LOCATION:Calle 64 # 24-14  FUNDASER Manizales Caldas 301-4259275
DESCRIPTION;ENCODING=QUOTED-PRINTABLE:\n\n“Es mejor prender una vela que maldecir las tinieblas” dice el refrán y
 , realmente, el acto de encender una vela marca en sí mismo un antes y un d
 espués en el ambiente.\n\n\n\nAprender de Iluminologia es mágico, interpret
 ar como se consume y su comportamiento. Según la física cuántica el número 
 mágico es el tres (3). Las velas tienen 3 pastes la luz (Fuego), Alma (mech
 a, pabilo), materia (cera). \nAprenderemos los rituales secretos de como in
 tencional las velas del 7 de diciembre. como arrancar el proceso secreto de
  la corona de adviento navideño. Principios de angelología, meditación en l
 a luz con fosfenismo (transformar la energía luminosa en energía mental) y 
 proyectar lo que merecemos en el cosmos enviando luz, para materializar nue
 stros deseos.\n\n\n&nbsp;\n\n\nSugerencias preparación para el taller\n\n -
  No haber consumido licor o sustancias alucinógenas el día anterior y duran
 te el taller.\n - No haber comido carnes rojas (Cerdo y Res) el día anterio
 r y durante el taller.\n - No haber trasnochado.\n - Estar Hidratados.\n - 
 Ropa cómoda, papel y lápiz.\n\nPrecio $200.000\n
CONTACT:Cristian Giovanny Toro Sánchez 3193496649
X-EXTRAINFO:https://api.whatsapp.com/send?phone=573193496649&text=curso%20Iluminologia_
 Manizales
DTSTAMP:20260423T002530Z
DTSTART;TZID=America/Bogota:20200329T090000
DTEND;TZID=America/Bogota:20200329T160000
SEQUENCE:0
TRANSP:OPAQUE
END:VEVENT
END:VCALENDAR