BEGIN:VCALENDAR
VERSION:2.0
PRODID:-//jEvents 2.0 for Joomla//EN
CALSCALE:GREGORIAN
METHOD:PUBLISH
BEGIN:VTIMEZONE
TZID:America/Bogota
BEGIN:STANDARD
DTSTART:20190124T080000
RDATE:20380118T221407
TZOFFSETFROM:-0500
TZOFFSETTO:-0500
TZNAME:America/Bogota -05
END:STANDARD
END:VTIMEZONE
BEGIN:VEVENT
UID:945101e6d9b38e3905b46c6231769682
CATEGORIES:Curso Dones
CREATED:20200109T082331
SUMMARY:Taller Iluminologia Nivel 1
LOCATION:Pereira Risaralda - Finca La Secreta -  Vía Morelia
DESCRIPTION;ENCODING=QUOTED-PRINTABLE:\n\n“Es mejor prender una vela que maldecir las tinieblas” dice el refrán y
 , realmente, el acto de encender una vela marca en sí mismo un antes y un d
 espués en el ambiente.\n\n\n\nAprender de Iluminologia es mágico, interpret
 ar como se consume y su comportamiento. Según la física cuántica el número 
 mágico es el tres (3). Las velas tienen 3 pastes la luz (Fuego), Alma (mech
 a, pabilo), materia (cera). \n\n - Reglas generales para el uso de las vela
 s.\n - Razones para encender una vela.\n - Programar velas\n - Los colores 
 de las velas.\n - Velas angelicales.\n - Ritual Intenciones y programar las
  velas.\n - Ritual Ungir las verlas con aceite energético.\n - Interpretar 
 el comportamiento de las velas: Color, llama, cera.\n - velomancia.\n - Kit
  personalizado por asistente para trabajar.\n\n&nbsp;\n\n\nSugerencias prep
 aración para el taller\n\n - No haber consumido licor o sustancias alucinóg
 enas el día anterior y durante el taller.\n - No haber comido carnes rojas 
 (Cerdo y Res) el día anterior y durante el taller.\n - No haber trasnochado
 .\n - Estar Hidratados.\n - Ropa cómoda, papel y lápiz.\n\nPrecio $130.000\
 n
CONTACT:Julia Aurora Bautista 3216133237
X-EXTRAINFO:https://api.whatsapp.com/send?phone=573193496649&text=curso%20Iluminologia_
 1
DTSTAMP:20260423T032108Z
DTSTART;TZID=America/Bogota:20200125T080000
DTEND;TZID=America/Bogota:20200125T160000
SEQUENCE:0
TRANSP:OPAQUE
END:VEVENT
END:VCALENDAR