BEGIN:VCALENDAR
VERSION:2.0
PRODID:-//jEvents 2.0 for Joomla//EN
CALSCALE:GREGORIAN
METHOD:PUBLISH
BEGIN:VTIMEZONE
TZID:America/Bogota
BEGIN:STANDARD
DTSTART:20181225T180000
RDATE:20380118T221407
TZOFFSETFROM:-0500
TZOFFSETTO:-0500
TZNAME:America/Bogota -05
END:STANDARD
END:VTIMEZONE
BEGIN:VEVENT
UID:2da0de1664c5a966014f66b9fd6593b3
CATEGORIES:DEFAULT
CREATED:20191226T084122
SUMMARY:Telecafe: Hablemos de terapias energéticas
LOCATION:Telecafe 
DESCRIPTION;ENCODING=QUOTED-PRINTABLE:\n\n\n
CONTACT:Instructor Cristian Giovanny Toro Sánchez
X-EXTRAINFO:Telecafe 06 PM
DTSTAMP:20260423T050900Z
DTSTART;TZID=America/Bogota:20191226T180000
DTEND;TZID=America/Bogota:20191226T190000
SEQUENCE:0
TRANSP:OPAQUE
END:VEVENT
END:VCALENDAR