BEGIN:VCALENDAR
VERSION:2.0
PRODID:-//jEvents 2.0 for Joomla//EN
CALSCALE:GREGORIAN
METHOD:PUBLISH
BEGIN:VTIMEZONE
TZID:America/Bogota
BEGIN:STANDARD
DTSTART:20181226T160000
RDATE:20380118T221407
TZOFFSETFROM:-0500
TZOFFSETTO:-0500
TZNAME:America/Bogota -05
END:STANDARD
END:VTIMEZONE
BEGIN:VEVENT
UID:ee34bfc3eb738f9c5ded461b33288d57
CATEGORIES:DEFAULT
CREATED:20191222T175048
SUMMARY:Sanación de espacios y personas con los 5 elementos
LOCATION: Manimez - Carrera 22 # 24-24\, Centro\, Manizales\, Caldas
DESCRIPTION;ENCODING=QUOTED-PRINTABLE:\n\nRituales de armonización del hogar y locales con los 5 elementos y la g
 eometría Sagrada.\n\n\n\n\n\nValor $19.000\n
CONTACT:Cristian Toro 319-3496649
X-EXTRAINFO:https://api.whatsapp.com/send?phone=573193496649&text=Ritual%205_elementos%
 20Manimez
DTSTAMP:20260423T050900Z
DTSTART;TZID=America/Bogota:20191227T160000
DTEND;TZID=America/Bogota:20191227T180000
SEQUENCE:0
TRANSP:OPAQUE
END:VEVENT
END:VCALENDAR