BEGIN:VCALENDAR
VERSION:2.0
PRODID:-//jEvents 2.0 for Joomla//EN
CALSCALE:GREGORIAN
METHOD:PUBLISH
BEGIN:VTIMEZONE
TZID:America/Bogota
BEGIN:STANDARD
DTSTART:20161030T083000
RDATE:20380118T221407
TZOFFSETFROM:-0500
TZOFFSETTO:-0500
TZNAME:America/Bogota -05
END:STANDARD
END:VTIMEZONE
BEGIN:VEVENT
UID:9723a0e255b14568792ac7ee647647ef
CATEGORIES:DEFAULT
CREATED:20171030T212643
SUMMARY:Halloween en muy buenos días de RCN Televisión
LOCATION:RCN Televisión
DESCRIPTION;ENCODING=QUOTED-PRINTABLE:\n\n\n
CONTACT:Muy buenos días
X-EXTRAINFO:3193496649
DTSTAMP:20260424T203130Z
DTSTART;TZID=America/Bogota:20171031T083000
DTEND;TZID=America/Bogota:20171031T103000
SEQUENCE:0
TRANSP:OPAQUE
END:VEVENT
END:VCALENDAR